BEGIN:VCALENDAR
VERSION:2.0
PRODID:-//Squarespace Inc/Squarespace 6//v6//EN
BEGIN:VEVENT
UID:56b55d3fe707ebc2b551ec37@squarespace.com
DTSTAMP:20160206T025742Z
DTSTART:20160213T233000Z
DTEND:20160214T013000Z
SUMMARY:HUGH MCGINLAY - Front Bar FREE
END:VEVENT
END:VCALENDAR
