BEGIN:VCALENDAR
VERSION:2.0
PRODID:-//Squarespace Inc/Squarespace 6//v6//EN
BEGIN:VEVENT
UID:5e54aee84eb2985cbbf552ed@squarespace.com
DTSTAMP:20200225T052411Z
DTSTART:20200308T200000Z
DTEND:20200308T220000Z
SUMMARY:The Ironbark brothers
END:VEVENT
END:VCALENDAR
