BEGIN:VCALENDAR
VERSION:2.0
PRODID:-//Squarespace Inc/Squarespace 6//v6//EN
BEGIN:VEVENT
UID:5e49fe678639f008053618b6@squarespace.com
DTSTAMP:20200217T024726Z
DTSTART:20200307T233000Z
DTEND:20200308T013000Z
SUMMARY:Poppy WS
END:VEVENT
END:VCALENDAR
