BEGIN:VCALENDAR
VERSION:2.0
PRODID:-//Squarespace Inc/Squarespace 6//v6//EN
BEGIN:VEVENT
UID:5e40b9024b6b8940eec642c5@squarespace.com
DTSTAMP:20200217T024541Z
DTSTART:20200305T233000Z
DTEND:20200306T013000Z
SUMMARY:The 'Johnny Can't Dance' Cajun Band
END:VEVENT
END:VCALENDAR
