BEGIN:VCALENDAR
VERSION:2.0
PRODID:-//Squarespace Inc/Squarespace 6//v6//EN
BEGIN:VEVENT
UID:5e49ff808497647c62947de4@squarespace.com
DTSTAMP:20200225T053715Z
DTSTART:20200328T223000Z
DTEND:20200329T003000Z
SUMMARY:Boy Alto
END:VEVENT
END:VCALENDAR
