BEGIN:VCALENDAR
VERSION:2.0
PRODID:-//Squarespace Inc/Squarespace 6//v6//EN
BEGIN:VEVENT
UID:5e40b9ddbab6ba3cfa5d32ea@squarespace.com
DTSTAMP:20200217T025611Z
DTSTART:20200322T200000Z
DTEND:20200322T220000Z
SUMMARY:Rob Patton
END:VEVENT
END:VCALENDAR
