BEGIN:VCALENDAR
VERSION:2.0
PRODID:-//Squarespace Inc/Squarespace 6//v6//EN
BEGIN:VEVENT
UID:5e49ff24dd42c458f3678c94@squarespace.com
DTSTAMP:20200217T025429Z
DTSTART:20200319T223000Z
DTEND:20200320T003000Z
SUMMARY:Rhyley McGrath
END:VEVENT
END:VCALENDAR
