BEGIN:VCALENDAR
VERSION:2.0
PRODID:-//Squarespace Inc/Squarespace 6//v6//EN
BEGIN:VEVENT
UID:5e49fee296cdbe0b66b3a6a4@squarespace.com
DTSTAMP:20200217T025319Z
DTSTART:20200314T223000Z
DTEND:20200315T003000Z
SUMMARY:The Wisecracks
END:VEVENT
END:VCALENDAR
