BEGIN:VCALENDAR
VERSION:2.0
PRODID:-//Squarespace Inc/Squarespace 6//v6//EN
BEGIN:VEVENT
UID:5e40b9364b6b8940eec64f65@squarespace.com
DTSTAMP:20200210T020643Z
DTSTART:20200315T010000Z
DTEND:20200315T040000Z
SUMMARY:DJ Steely Ann
END:VEVENT
END:VCALENDAR
