BEGIN:VCALENDAR
VERSION:2.0
PRODID:-//Squarespace Inc/Squarespace 6//v6//EN
BEGIN:VEVENT
UID:5e40b91a120d25193d8dac90@squarespace.com
DTSTAMP:20200210T020852Z
DTSTART:20200312T223000Z
DTEND:20200313T003000Z
SUMMARY:Steve Mitchell
END:VEVENT
END:VCALENDAR
