BEGIN:VCALENDAR
VERSION:2.0
PRODID:-//Squarespace Inc/Squarespace 6//v6//EN
BEGIN:VEVENT
UID:5e54af8ddb9f8b45816264b6@squarespace.com
DTSTAMP:20200225T053059Z
DTSTART:20200301T200000Z
DTEND:20200302T160000Z
SUMMARY:Sydney Road Street Party
END:VEVENT
END:VCALENDAR
