BEGIN:VCALENDAR
VERSION:2.0
PRODID:-//Squarespace Inc/Squarespace 6//v6//EN
BEGIN:VEVENT
UID:5e1d427c44a61407bc1baf25@squarespace.com
DTSTAMP:20200127T012751Z
DTSTART:20200209T210000Z
DTEND:20200209T230000Z
SUMMARY:Joyce Prescher 
END:VEVENT
END:VCALENDAR
