BEGIN:VCALENDAR
VERSION:2.0
PRODID:-//Squarespace Inc/Squarespace 6//v6//EN
BEGIN:VEVENT
UID:5e1d4237db2c3e0f98932465@squarespace.com
DTSTAMP:20200127T012703Z
DTSTART:20200208T233000Z
DTEND:20200209T013000Z
SUMMARY:Kyle Brew
END:VEVENT
END:VCALENDAR
