BEGIN:VCALENDAR
VERSION:2.0
PRODID:-//Squarespace Inc/Squarespace 6//v6//EN
BEGIN:VEVENT
UID:5e1d420fb387c1091da54564@squarespace.com
DTSTAMP:20200127T012604Z
DTSTART:20200206T233000Z
DTEND:20200207T013000Z
SUMMARY:Greg Steps
END:VEVENT
END:VCALENDAR
