BEGIN:VCALENDAR
VERSION:2.0
PRODID:-//Squarespace Inc/Squarespace 6//v6//EN
BEGIN:VEVENT
UID:5e1d44fa6b4ecf142adff25f@squarespace.com
DTSTAMP:20200225T053122Z
DTSTART:20200301T020000Z
DTEND:20200301T050000Z
SUMMARY:DJ A-Man
END:VEVENT
END:VCALENDAR
