BEGIN:VCALENDAR
VERSION:2.0
PRODID:-//Squarespace Inc/Squarespace 6//v6//EN
BEGIN:VEVENT
UID:5e1d44846bc1842ea0d25e53@squarespace.com
DTSTAMP:20200127T013750Z
DTSTART:20200227T233000Z
DTEND:20200228T013000Z
SUMMARY:Steve Tyssen
END:VEVENT
END:VCALENDAR
