BEGIN:VCALENDAR
VERSION:2.0
PRODID:-//Squarespace Inc/Squarespace 6//v6//EN
BEGIN:VEVENT
UID:5e1d4469419ffa6ab09a7f9a@squarespace.com
DTSTAMP:20200127T013558Z
DTSTART:20200223T210000Z
DTEND:20200223T230000Z
SUMMARY:Zac Eden
END:VEVENT
END:VCALENDAR
