BEGIN:VCALENDAR
VERSION:2.0
PRODID:-//Squarespace Inc/Squarespace 6//v6//EN
BEGIN:VEVENT
UID:5e1d43f66b4ecf142adfd351@squarespace.com
DTSTAMP:20200127T013422Z
DTSTART:20200222T233000Z
DTEND:20200223T013000Z
SUMMARY:Madi Leeds
END:VEVENT
END:VCALENDAR
