BEGIN:VCALENDAR
VERSION:2.0
PRODID:-//Squarespace Inc/Squarespace 6//v6//EN
BEGIN:VEVENT
UID:5e1d4367419ffa6ab09a5c37@squarespace.com
DTSTAMP:20200127T013312Z
DTSTART:20200220T233000Z
DTEND:20200221T013000Z
SUMMARY:Dan Challis
END:VEVENT
END:VCALENDAR
