BEGIN:VCALENDAR
VERSION:2.0
PRODID:-//Squarespace Inc/Squarespace 6//v6//EN
BEGIN:VEVENT
UID:5e1d4200c551b3461b4f5bfb@squarespace.com
DTSTAMP:20200127T012515Z
DTSTART:20200202T210000Z
DTEND:20200202T230000Z
SUMMARY:Morning Bear
END:VEVENT
END:VCALENDAR
