BEGIN:VCALENDAR
VERSION:2.0
PRODID:-//Squarespace Inc/Squarespace 6//v6//EN
BEGIN:VEVENT
UID:5e1d431ec551b3461b4f82e9@squarespace.com
DTSTAMP:20200127T013106Z
DTSTART:20200216T210000Z
DTEND:20200216T230000Z
SUMMARY:Ruby Dargaville &amp\; Nick Kyritsis
END:VEVENT
END:VCALENDAR
