BEGIN:VCALENDAR
VERSION:2.0
PRODID:-//Squarespace Inc/Squarespace 6//v6//EN
BEGIN:VEVENT
UID:5e1d42afb387c1091da5556e@squarespace.com
DTSTAMP:20200127T012928Z
DTSTART:20200215T233000Z
DTEND:20200216T013000Z
SUMMARY:Entropy Quartet
END:VEVENT
END:VCALENDAR
