BEGIN:VCALENDAR
VERSION:2.0
PRODID:-//Squarespace Inc/Squarespace 6//v6//EN
BEGIN:VEVENT
UID:5e1d4296dfa19430e4df68af@squarespace.com
DTSTAMP:20200127T012836Z
DTSTART:20200213T233000Z
DTEND:20200214T003000Z
SUMMARY:Joe Terror
END:VEVENT
END:VCALENDAR
