BEGIN:VCALENDAR
VERSION:2.0
PRODID:-//Squarespace Inc/Squarespace 6//v6//EN
BEGIN:VEVENT
UID:5e1d41f0db2c3e0f98931a1f@squarespace.com
DTSTAMP:20200127T012419Z
DTSTART:20200201T233000Z
DTEND:20200202T013000Z
SUMMARY:Georgia Rodgers
END:VEVENT
END:VCALENDAR
