BEGIN:VCALENDAR
VERSION:2.0
PRODID:-//Squarespace Inc/Squarespace 6//v6//EN
BEGIN:VEVENT
UID:5df82fbdfb358843c68a8c8b@squarespace.com
DTSTAMP:20191224T021413Z
DTSTART:20200109T233000Z
DTEND:20200110T013000Z
SUMMARY:Grand Baxter
END:VEVENT
END:VCALENDAR
