BEGIN:VCALENDAR
VERSION:2.0
PRODID:-//Squarespace Inc/Squarespace 6//v6//EN
BEGIN:VEVENT
UID:5df82fa75f8fa93ebeb18775@squarespace.com
DTSTAMP:20191229T235030Z
DTSTART:20200105T210000Z
DTEND:20200105T230000Z
SUMMARY:The Chris Commerford Band
END:VEVENT
END:VCALENDAR
