BEGIN:VCALENDAR
VERSION:2.0
PRODID:-//Squarespace Inc/Squarespace 6//v6//EN
BEGIN:VEVENT
UID:5df82f594c962f3ede376700@squarespace.com
DTSTAMP:20191224T021420Z
DTSTART:20200104T233000Z
DTEND:20200105T013000Z
SUMMARY:Joying
END:VEVENT
END:VCALENDAR
