BEGIN:VCALENDAR
VERSION:2.0
PRODID:-//Squarespace Inc/Squarespace 6//v6//EN
BEGIN:VEVENT
UID:5e01747c6c5ca627775f086c@squarespace.com
DTSTAMP:20191224T021431Z
DTSTART:20200111T233000Z
DTEND:20200112T013000Z
SUMMARY:Joying
END:VEVENT
END:VCALENDAR
