BEGIN:VCALENDAR
VERSION:2.0
PRODID:-//Squarespace Inc/Squarespace 6//v6//EN
BEGIN:VEVENT
UID:5df82f8f014def4547ea2c92@squarespace.com
DTSTAMP:20191224T021239Z
DTSTART:20200105T020000Z
DTEND:20200105T050000Z
SUMMARY:DJ Bama Lama
END:VEVENT
END:VCALENDAR
