BEGIN:VCALENDAR
VERSION:2.0
PRODID:-//Squarespace Inc/Squarespace 6//v6//EN
BEGIN:VEVENT
UID:5df832c5459f127bd4649ded@squarespace.com
DTSTAMP:20191217T014423Z
DTSTART:20200130T233000Z
DTEND:20200131T013000Z
SUMMARY:Trio Grande
END:VEVENT
END:VCALENDAR
