BEGIN:VCALENDAR
VERSION:2.0
PRODID:-//Squarespace Inc/Squarespace 6//v6//EN
BEGIN:VEVENT
UID:5df83284014def4547ea9736@squarespace.com
DTSTAMP:20191230T004458Z
DTSTART:20200126T210000Z
DTEND:20200126T230000Z
SUMMARY:Louis Valentine
END:VEVENT
END:VCALENDAR
