BEGIN:VCALENDAR
VERSION:2.0
PRODID:-//Squarespace Inc/Squarespace 6//v6//EN
BEGIN:VEVENT
UID:5df8322579781661ddf91869@squarespace.com
DTSTAMP:20191224T021741Z
DTSTART:20200125T233000Z
DTEND:20200126T013000Z
SUMMARY:David Kerrigan
END:VEVENT
END:VCALENDAR
