BEGIN:VCALENDAR
VERSION:2.0
PRODID:-//Squarespace Inc/Squarespace 6//v6//EN
BEGIN:VEVENT
UID:5df8314d10be2670a1d26669@squarespace.com
DTSTAMP:20191217T013952Z
DTSTART:20200119T210000Z
DTEND:20200119T230000Z
SUMMARY:Augustine Ang
END:VEVENT
END:VCALENDAR
