BEGIN:VCALENDAR
VERSION:2.0
PRODID:-//Squarespace Inc/Squarespace 6//v6//EN
BEGIN:VEVENT
UID:5e12c54988456a2a6f75783f@squarespace.com
DTSTAMP:20200106T053045Z
DTSTART:20200116T233000Z
DTEND:20200117T013000Z
SUMMARY:Dom Rogers
END:VEVENT
END:VCALENDAR
