BEGIN:VCALENDAR
VERSION:2.0
PRODID:-//Squarespace Inc/Squarespace 6//v6//EN
BEGIN:VEVENT
UID:5df82fe48571f5548e2b5f5e@squarespace.com
DTSTAMP:20191224T021523Z
DTSTART:20200112T020000Z
DTEND:20200112T050000Z
SUMMARY:DJ Lady Blades
END:VEVENT
END:VCALENDAR
