BEGIN:VCALENDAR
VERSION:2.0
PRODID:-//Squarespace Inc/Squarespace 6//v6//EN
BEGIN:VEVENT
UID:5e40b95d5af4111d702c4ae6@squarespace.com
DTSTAMP:20200210T020215Z
DTSTART:20200315T200000Z
DTEND:20200315T220000Z
SUMMARY:Rosario De Marco
END:VEVENT
END:VCALENDAR
