BEGIN:VCALENDAR
VERSION:2.0
PRODID:-//Squarespace Inc/Squarespace 6//v6//EN
BEGIN:VEVENT
UID:5d314589a6fab3000162c1da@squarespace.com
DTSTAMP:20200210T020524Z
DTSTART:20200329T223000Z
DTEND:20200330T003000Z
SUMMARY:Front Porch
END:VEVENT
END:VCALENDAR
