BEGIN:VCALENDAR
VERSION:2.0
PRODID:-//Squarespace Inc/Squarespace 6//v6//EN
BEGIN:VEVENT
UID:5df8326b9bc7dc323fee385b@squarespace.com
DTSTAMP:20191217T014218Z
DTSTART:20200126T020000Z
DTEND:20200126T050000Z
SUMMARY:DJ Chips and Salad
END:VEVENT
END:VCALENDAR
