BEGIN:VCALENDAR
VERSION:2.0
PRODID:-//Squarespace Inc/Squarespace 6//v6//EN
BEGIN:VEVENT
UID:5e1d442cc551b3461b4fa26e@squarespace.com
DTSTAMP:20200114T043227Z
DTSTART:20200223T020000Z
DTEND:20200223T050000Z
SUMMARY:DJ Chips and Salad
END:VEVENT
END:VCALENDAR
