BEGIN:VCALENDAR
VERSION:2.0
PRODID:-//Squarespace Inc/Squarespace 6//v6//EN
BEGIN:VEVENT
UID:5e1d42654ca29a5aa4434188@squarespace.com
DTSTAMP:20200114T042414Z
DTSTART:20200209T020000Z
DTEND:20200209T050000Z
SUMMARY:DJ Lady Love Potion
END:VEVENT
END:VCALENDAR
