BEGIN:VCALENDAR
VERSION:2.0
PRODID:-//Squarespace Inc/Squarespace 6//v6//EN
BEGIN:VEVENT
UID:5e49fecdbc62bd191292ad9c@squarespace.com
DTSTAMP:20200217T025649Z
DTSTART:20200308T020000Z
DTEND:20200308T050000Z
SUMMARY:DJ Lady Love Potion
END:VEVENT
END:VCALENDAR
