BEGIN:VCALENDAR
VERSION:2.0
PRODID:-//Squarespace Inc/Squarespace 6//v6//EN
BEGIN:VEVENT
UID:5df8312bfb358843c68ac5a9@squarespace.com
DTSTAMP:20191217T013654Z
DTSTART:20200119T020000Z
DTEND:20200119T050000Z
SUMMARY:DJ Tardisco
END:VEVENT
END:VCALENDAR
