BEGIN:VCALENDAR
VERSION:2.0
PRODID:-//Squarespace Inc/Squarespace 6//v6//EN
BEGIN:VEVENT
UID:5e2e3ef9fee98407e2712240@squarespace.com
DTSTAMP:20200127T013819Z
DTSTART:20200202T020000Z
DTEND:20200202T050000Z
SUMMARY:DJ Tardisco
END:VEVENT
END:VCALENDAR
