BEGIN:VCALENDAR
VERSION:2.0
PRODID:-//Squarespace Inc/Squarespace 6//v6//EN
BEGIN:VEVENT
UID:5e40b9fbe14ad269a823ab90@squarespace.com
DTSTAMP:20200217T025630Z
DTSTART:20200326T223000Z
DTEND:20200327T003000Z
SUMMARY:Peny Bohan
END:VEVENT
END:VCALENDAR
