BEGIN:VCALENDAR
VERSION:2.0
PRODID:-//Squarespace Inc/Squarespace 6//v6//EN
BEGIN:VEVENT
UID:5df83105459f127bd464620b@squarespace.com
DTSTAMP:20191230T001713Z
DTSTART:20200118T233000Z
DTEND:20200119T013000Z
SUMMARY:Dylan Guy Pinkerton
END:VEVENT
END:VCALENDAR
