BEGIN:VCALENDAR
VERSION:2.0
PRODID:-//Squarespace Inc/Squarespace 6//v6//EN
BEGIN:VEVENT
UID:5e40b9c1f875f52b56a07d17@squarespace.com
DTSTAMP:20200210T020259Z
DTSTART:20200321T223000Z
DTEND:20200322T003000Z
SUMMARY:Dylan Guy Pinkerton
END:VEVENT
END:VCALENDAR
