BEGIN:VCALENDAR
VERSION:2.0
PRODID:-//Squarespace Inc/Squarespace 6//v6//EN
BEGIN:VEVENT
UID:5df830a48571f5548e2b7c65@squarespace.com
DTSTAMP:20191217T013450Z
DTSTART:20200112T210000Z
DTEND:20200112T230000Z
SUMMARY:Nir Tsfaty
END:VEVENT
END:VCALENDAR
