BEGIN:VCALENDAR
VERSION:2.0
PRODID:-//Squarespace Inc/Squarespace 6//v6//EN
BEGIN:VEVENT
UID:5e1d42e7419ffa6ab09a4b43@squarespace.com
DTSTAMP:20200114T042633Z
DTSTART:20200216T020000Z
DTEND:20200216T050000Z
SUMMARY:DJ Simon Laxton
END:VEVENT
END:VCALENDAR
