BEGIN:VCALENDAR
VERSION:2.0
PRODID:-//Squarespace Inc/Squarespace 6//v6//EN
BEGIN:VEVENT
UID:5e1d44d344a61407bc1c02ca@squarespace.com
DTSTAMP:20200114T043456Z
DTSTART:20200229T233000Z
DTEND:20200301T013000Z
SUMMARY:Yasin Leflef
END:VEVENT
END:VCALENDAR
