BEGIN:VCALENDAR
VERSION:2.0
PRODID:-//Squarespace Inc/Squarespace 6//v6//EN
BEGIN:VEVENT
UID:5e49ff4bac722716386d0f29@squarespace.com
DTSTAMP:20200217T025019Z
DTSTART:20200322T010000Z
DTEND:20200322T040000Z
SUMMARY:DJ Funk McRump
END:VEVENT
END:VCALENDAR
